BEGIN:VCALENDAR
VERSION:2.0
PRODID:-//KG Ahl Häre von 1927 e.V. - ECPv6.15.20//NONSGML v1.0//EN
CALSCALE:GREGORIAN
METHOD:PUBLISH
X-ORIGINAL-URL:https://ahl-haere.de
X-WR-CALDESC:Veranstaltungen für KG Ahl Häre von 1927 e.V.
REFRESH-INTERVAL;VALUE=DURATION:PT1H
X-Robots-Tag:noindex
X-PUBLISHED-TTL:PT1H
BEGIN:VTIMEZONE
TZID:Europe/Berlin
BEGIN:DAYLIGHT
TZOFFSETFROM:+0100
TZOFFSETTO:+0200
TZNAME:CEST
DTSTART:20260329T010000
END:DAYLIGHT
BEGIN:STANDARD
TZOFFSETFROM:+0200
TZOFFSETTO:+0100
TZNAME:CET
DTSTART:20261025T010000
END:STANDARD
BEGIN:DAYLIGHT
TZOFFSETFROM:+0100
TZOFFSETTO:+0200
TZNAME:CEST
DTSTART:20270328T010000
END:DAYLIGHT
BEGIN:STANDARD
TZOFFSETFROM:+0200
TZOFFSETTO:+0100
TZNAME:CET
DTSTART:20271031T010000
END:STANDARD
BEGIN:DAYLIGHT
TZOFFSETFROM:+0100
TZOFFSETTO:+0200
TZNAME:CEST
DTSTART:20280326T010000
END:DAYLIGHT
BEGIN:STANDARD
TZOFFSETFROM:+0200
TZOFFSETTO:+0100
TZNAME:CET
DTSTART:20281029T010000
END:STANDARD
END:VTIMEZONE
BEGIN:VEVENT
DTSTART;TZID=Europe/Berlin:20270206T160000
DTEND;TZID=Europe/Berlin:20270206T235000
DTSTAMP:20260420T145203
CREATED:20260218T131626Z
LAST-MODIFIED:20260218T131657Z
UID:28138-1801929600-1801957800@ahl-haere.de
SUMMARY:Session 2027: Gemeinsam Zurück im Zelt auf dem Pulheimer Marktplatz - Zesamme Jeck -Bunt wie uns Stadt-
DESCRIPTION:  \n 
URL:https://ahl-haere.de/veranstaltungen/gemeinsam-zurueck-im-zelt-auf-dem-pulheimer-marktplatz-zesamme-jeck-bunt-wie-uns-stadt-2/
LOCATION:Marktplatz Pulheim\, Venloer Str. 112\, Pulheim\, 50259\, Deutschland
CATEGORIES:Highlights
END:VEVENT
BEGIN:VEVENT
DTSTART;TZID=Europe/Berlin:20270209T133000
DTEND;TZID=Europe/Berlin:20270209T133000
DTSTAMP:20260420T145203
CREATED:20260218T131152Z
LAST-MODIFIED:20260218T131152Z
UID:28131-1802179800-1802179800@ahl-haere.de
SUMMARY:Veilchendienstag - Karnevalszoch en Pullem
DESCRIPTION:Veilchendienstag – Karnevalszoch en Pullem \nab Gymnasium Hackenbroicher Straße \nWeitere Infos und Anmeldeunterlagen findet Ihr demnächst im Downloadbereich.
URL:https://ahl-haere.de/veranstaltungen/veilchendienstag-karnevalszoch-en-pullem-3/
LOCATION:NRW
ATTACH;FMTTYPE=image/webp:https://ahl-haere.de/wp-content/uploads/2025/01/Bildschirmfoto-2025-01-30-um-12.06.35.webp
END:VEVENT
BEGIN:VEVENT
DTSTART;TZID=Europe/Berlin:20270209T153000
DTEND;TZID=Europe/Berlin:20270209T230000
DTSTAMP:20260420T145203
CREATED:20260218T131048Z
LAST-MODIFIED:20260218T131048Z
UID:28129-1802187000-1802214000@ahl-haere.de
SUMMARY:Veilchendienstag - After-Zoch-Party
DESCRIPTION:Veilchendienstag – After-Zoch-Party
URL:https://ahl-haere.de/veranstaltungen/veilchendienstag-after-zoch-party-3/
LOCATION:Dr.-Hans-Köster-Saal (neben Kultur- und Medienzentrum)\, Steinstraße 15\, Pulheim\, NRW\, 50259\, Deutschland
ATTACH;FMTTYPE=image/webp:https://ahl-haere.de/wp-content/uploads/2025/01/Bildschirmfoto-2025-01-30-um-12.06.35.webp
ORGANIZER;CN="KG Ahl H%C3%A4re Veranstaltungs GmbH":MAILTO:praesident@ahl-haere.de
END:VEVENT
END:VCALENDAR