BEGIN:VCALENDAR
VERSION:2.0
PRODID:-//KG Ahl Häre von 1927 e.V. - ECPv6.15.20//NONSGML v1.0//EN
CALSCALE:GREGORIAN
METHOD:PUBLISH
X-WR-CALNAME:KG Ahl Häre von 1927 e.V.
X-ORIGINAL-URL:https://ahl-haere.de
X-WR-CALDESC:Veranstaltungen für KG Ahl Häre von 1927 e.V.
REFRESH-INTERVAL;VALUE=DURATION:PT1H
X-Robots-Tag:noindex
X-PUBLISHED-TTL:PT1H
BEGIN:VTIMEZONE
TZID:Europe/Berlin
BEGIN:DAYLIGHT
TZOFFSETFROM:+0100
TZOFFSETTO:+0200
TZNAME:CEST
DTSTART:20240331T010000
END:DAYLIGHT
BEGIN:STANDARD
TZOFFSETFROM:+0200
TZOFFSETTO:+0100
TZNAME:CET
DTSTART:20241027T010000
END:STANDARD
BEGIN:DAYLIGHT
TZOFFSETFROM:+0100
TZOFFSETTO:+0200
TZNAME:CEST
DTSTART:20250330T010000
END:DAYLIGHT
BEGIN:STANDARD
TZOFFSETFROM:+0200
TZOFFSETTO:+0100
TZNAME:CET
DTSTART:20251026T010000
END:STANDARD
BEGIN:DAYLIGHT
TZOFFSETFROM:+0100
TZOFFSETTO:+0200
TZNAME:CEST
DTSTART:20260329T010000
END:DAYLIGHT
BEGIN:STANDARD
TZOFFSETFROM:+0200
TZOFFSETTO:+0100
TZNAME:CET
DTSTART:20261025T010000
END:STANDARD
END:VTIMEZONE
BEGIN:VEVENT
DTSTART;TZID=Europe/Berlin:20250920T180000
DTEND;TZID=Europe/Berlin:20250920T180000
DTSTAMP:20260422T215102
CREATED:20250416T104258Z
LAST-MODIFIED:20250822T201308Z
UID:26482-1758391200-1758391200@ahl-haere.de
SUMMARY:Bayerisches Oktoberfest und Pulheimer Herbst-Gaudi der KG 2025
DESCRIPTION:Unser vorläufiges Programm: \n\nZünftige Eröffnung & Fassanstich durch unseren Bürgermeister\nPullemer DJ`s\n\nAuftritt: Powerbuam – https://www.powerbuam.com/\n\n\nVorverkaufsstellen: \nBlumen Boon\, Sinnersdorfer Str. 56G\, 50259 Pulheim\, Tel.: 02238-55356  \nund \nWirtshaus am Markt\, Venloer Str. 112\, 50259 Pulheim\, Tel.: 02238-1406673 \n  \n 
URL:https://ahl-haere.de/veranstaltungen/bayerisches-oktoberfest-und-pulheimer-herbst-gaudi-der-kg-2025/
LOCATION:Wagenbauhalle der KG Ahl Häre\, Boschstrasse 35\, Pulheim\, 50259\, Deutschland
ATTACH;FMTTYPE=image/webp:https://ahl-haere.de/wp-content/uploads/2025/06/HG_KGWebsite_Oktoberfest25-scaled.webp
END:VEVENT
END:VCALENDAR