BEGIN:VCALENDAR
VERSION:2.0
PRODID:-//KG Ahl Häre von 1927 e.V. - ECPv6.15.20//NONSGML v1.0//EN
CALSCALE:GREGORIAN
METHOD:PUBLISH
X-WR-CALNAME:KG Ahl Häre von 1927 e.V.
X-ORIGINAL-URL:https://ahl-haere.de
X-WR-CALDESC:Veranstaltungen für KG Ahl Häre von 1927 e.V.
REFRESH-INTERVAL;VALUE=DURATION:PT1H
X-Robots-Tag:noindex
X-PUBLISHED-TTL:PT1H
BEGIN:VTIMEZONE
TZID:Europe/Berlin
BEGIN:DAYLIGHT
TZOFFSETFROM:+0100
TZOFFSETTO:+0200
TZNAME:CEST
DTSTART:20250330T010000
END:DAYLIGHT
BEGIN:STANDARD
TZOFFSETFROM:+0200
TZOFFSETTO:+0100
TZNAME:CET
DTSTART:20251026T010000
END:STANDARD
BEGIN:DAYLIGHT
TZOFFSETFROM:+0100
TZOFFSETTO:+0200
TZNAME:CEST
DTSTART:20260329T010000
END:DAYLIGHT
BEGIN:STANDARD
TZOFFSETFROM:+0200
TZOFFSETTO:+0100
TZNAME:CET
DTSTART:20261025T010000
END:STANDARD
BEGIN:DAYLIGHT
TZOFFSETFROM:+0100
TZOFFSETTO:+0200
TZNAME:CEST
DTSTART:20270328T010000
END:DAYLIGHT
BEGIN:STANDARD
TZOFFSETFROM:+0200
TZOFFSETTO:+0100
TZNAME:CET
DTSTART:20271031T010000
END:STANDARD
END:VTIMEZONE
BEGIN:VEVENT
DTSTART;TZID=Europe/Berlin:20260121T160000
DTEND;TZID=Europe/Berlin:20260121T160000
DTSTAMP:20260422T160536
CREATED:20250416T184833Z
LAST-MODIFIED:20251109T145452Z
UID:26480-1769011200-1769011200@ahl-haere.de
SUMMARY:2. Damensitzung - Programm mit Spitzenkräften des Karnevals - Infos in den Details - RESTKARTEN!
DESCRIPTION:2. Damensitzung – Programm mit Spitzenkräften des Karnevals: Einlass: 16:00 Uhr Beginn: ca. 17:00 Uhr u.a. mit den folgenden Künstlern:  \nTim Toupet; Kasalla; Liselotte Lotterlappen; Fauth Dance Company; Eldorado; Stadtgarde Colonia Ahoi; Miljö und vielen mehr…. \n  \nKarten bestellen Sie bitte hier: Bitte aktiviere JavaScript in deinem Browser\, um dieses Formular fertigzustellen.Bitte aktiviere JavaScript in deinem Browser\, um dieses Formular fertigzustellen.Name *VornameNachnameEmail *Strasse/Hausnummer *		\n			Ihre a´49\,-€ Karten\n			\n		\n		PLZ & Ort *Für welche Damensitzung möchten Sie reservieren? *\n				\n					\n					\n				\n				\n				Damensitzung 21. Januar 2026 - Mittwoch\n			Anzahl Karten a´49\,-€Anzahl Mitgliederkarten a´49\,-€Bitte geben Sie unbedingt Ihre Telefonnummer für Rückfragen an. *Bestellung verbindlich absenden
URL:https://ahl-haere.de/veranstaltungen/neu-2-damensitzung-programm-mit-spitzenkraeften-des-karnevals-infos-in-den-details-vvk-gestartet/
LOCATION:Dr.-Hans-Köster-Saal (neben Kultur- und Medienzentrum)\, Steinstraße 15\, Pulheim\, NRW\, 50259\, Deutschland
ATTACH;FMTTYPE=image/webp:https://ahl-haere.de/wp-content/uploads/2024/12/HG_KGWebsite_DaSi_Werbung.webp
END:VEVENT
END:VCALENDAR