BEGIN:VCALENDAR
VERSION:2.0
PRODID:-//KG Ahl Häre von 1927 e.V. - ECPv6.15.20//NONSGML v1.0//EN
CALSCALE:GREGORIAN
METHOD:PUBLISH
X-WR-CALNAME:KG Ahl Häre von 1927 e.V.
X-ORIGINAL-URL:https://ahl-haere.de
X-WR-CALDESC:Veranstaltungen für KG Ahl Häre von 1927 e.V.
REFRESH-INTERVAL;VALUE=DURATION:PT1H
X-Robots-Tag:noindex
X-PUBLISHED-TTL:PT1H
BEGIN:VTIMEZONE
TZID:Europe/Berlin
BEGIN:DAYLIGHT
TZOFFSETFROM:+0100
TZOFFSETTO:+0200
TZNAME:CEST
DTSTART:20250330T010000
END:DAYLIGHT
BEGIN:STANDARD
TZOFFSETFROM:+0200
TZOFFSETTO:+0100
TZNAME:CET
DTSTART:20251026T010000
END:STANDARD
BEGIN:DAYLIGHT
TZOFFSETFROM:+0100
TZOFFSETTO:+0200
TZNAME:CEST
DTSTART:20260329T010000
END:DAYLIGHT
BEGIN:STANDARD
TZOFFSETFROM:+0200
TZOFFSETTO:+0100
TZNAME:CET
DTSTART:20261025T010000
END:STANDARD
BEGIN:DAYLIGHT
TZOFFSETFROM:+0100
TZOFFSETTO:+0200
TZNAME:CEST
DTSTART:20270328T010000
END:DAYLIGHT
BEGIN:STANDARD
TZOFFSETFROM:+0200
TZOFFSETTO:+0100
TZNAME:CET
DTSTART:20271031T010000
END:STANDARD
END:VTIMEZONE
BEGIN:VEVENT
DTSTART;TZID=Europe/Berlin:20260214T160000
DTEND;TZID=Europe/Berlin:20260214T235000
DTSTAMP:20260422T143146
CREATED:20250823T170317Z
LAST-MODIFIED:20251109T150108Z
UID:27710-1771084800-1771113000@ahl-haere.de
SUMMARY:Gemeinsam Zurück im Zelt auf dem Pulheimer Marktplatz - Zesamme Jeck -Bunt wie uns Stadt-
DESCRIPTION:  \n 
URL:https://ahl-haere.de/veranstaltungen/gemeinsam-zurueck-im-zelt-auf-dem-pulheimer-marktplatz-zesamme-jeck-bunt-wie-uns-stadt/
LOCATION:Marktplatz Pulheim\, Venloer Str. 112\, Pulheim\, 50259\, Deutschland
CATEGORIES:Highlights
ATTACH;FMTTYPE=image/webp:https://ahl-haere.de/wp-content/uploads/2025/11/HG_KGWebsite_Zelt_Karnevalssamstag.webp
END:VEVENT
END:VCALENDAR