BEGIN:VCALENDAR
VERSION:2.0
PRODID:-//KG Ahl Häre von 1927 e.V. - ECPv6.15.20//NONSGML v1.0//EN
CALSCALE:GREGORIAN
METHOD:PUBLISH
X-ORIGINAL-URL:https://ahl-haere.de
X-WR-CALDESC:Veranstaltungen für KG Ahl Häre von 1927 e.V.
REFRESH-INTERVAL;VALUE=DURATION:PT1H
X-Robots-Tag:noindex
X-PUBLISHED-TTL:PT1H
BEGIN:VTIMEZONE
TZID:Europe/Berlin
BEGIN:DAYLIGHT
TZOFFSETFROM:+0100
TZOFFSETTO:+0200
TZNAME:CEST
DTSTART:20250330T010000
END:DAYLIGHT
BEGIN:STANDARD
TZOFFSETFROM:+0200
TZOFFSETTO:+0100
TZNAME:CET
DTSTART:20251026T010000
END:STANDARD
BEGIN:DAYLIGHT
TZOFFSETFROM:+0100
TZOFFSETTO:+0200
TZNAME:CEST
DTSTART:20260329T010000
END:DAYLIGHT
BEGIN:STANDARD
TZOFFSETFROM:+0200
TZOFFSETTO:+0100
TZNAME:CET
DTSTART:20261025T010000
END:STANDARD
BEGIN:DAYLIGHT
TZOFFSETFROM:+0100
TZOFFSETTO:+0200
TZNAME:CEST
DTSTART:20270328T010000
END:DAYLIGHT
BEGIN:STANDARD
TZOFFSETFROM:+0200
TZOFFSETTO:+0100
TZNAME:CET
DTSTART:20271031T010000
END:STANDARD
END:VTIMEZONE
BEGIN:VEVENT
DTSTART;VALUE=DATE:20261206
DTEND;VALUE=DATE:20261207
DTSTAMP:20260420T192900
CREATED:20260208T220303Z
LAST-MODIFIED:20260317T080259Z
UID:27964-1796515200-1796601599@ahl-haere.de
SUMMARY:Kölsche Weihnacht - Paveier&Freunde (2026)
DESCRIPTION:Bereits zum 3. Mal: Kölsche Weihnacht – Paveier&Freunde (2026) \nErledigen Sie Ihre Ticketbestellung bequem Online mit 2 Möglichkeiten: \na) editierbares  PDF zum Selbstversand: Ticket-Bestell-Paveier-Weihnacht.pdf \nb) direkte Online Ticketbestellung:Bitte aktiviere JavaScript in deinem Browser\, um dieses Formular fertigzustellen.Bitte aktiviere JavaScript in deinem Browser\, um dieses Formular fertigzustellen.Name *VornameNachnameEmail *Strasse/Hausnummer *PLZ & Ort *Veranstaltung *2026 Paveier-Weihnacht 06.12.26		\n			Platzierungswünsche Strasse/Hausnummer angeben:\n			\n		\n		Anzahl Karten a´44\,-€Platzierungswünsche bitte hier angeben:Bestellung verbindlich absenden  \n  \n  \n 
URL:https://ahl-haere.de/veranstaltungen/koelsche-weihnacht-paveierfreunde-2026/
LOCATION:Dr.-Hans-Köster-Saal (neben Kultur- und Medienzentrum)\, Steinstraße 15\, Pulheim\, NRW\, 50259\, Deutschland
ATTACH;FMTTYPE=image/webp:https://ahl-haere.de/wp-content/uploads/2026/03/Screenshot-2026-03-17-085057.webp
ORGANIZER;CN="KG Ahl H%C3%A4re Veranstaltungs GmbH":MAILTO:praesident@ahl-haere.de
END:VEVENT
END:VCALENDAR