BEGIN:VCALENDAR
VERSION:2.0
PRODID:-//KG Ahl Häre von 1927 e.V. - ECPv6.15.20//NONSGML v1.0//EN
CALSCALE:GREGORIAN
METHOD:PUBLISH
X-ORIGINAL-URL:https://ahl-haere.de
X-WR-CALDESC:Veranstaltungen für KG Ahl Häre von 1927 e.V.
REFRESH-INTERVAL;VALUE=DURATION:PT1H
X-Robots-Tag:noindex
X-PUBLISHED-TTL:PT1H
BEGIN:VTIMEZONE
TZID:Europe/Berlin
BEGIN:DAYLIGHT
TZOFFSETFROM:+0100
TZOFFSETTO:+0200
TZNAME:CEST
DTSTART:20230326T010000
END:DAYLIGHT
BEGIN:STANDARD
TZOFFSETFROM:+0200
TZOFFSETTO:+0100
TZNAME:CET
DTSTART:20231029T010000
END:STANDARD
BEGIN:DAYLIGHT
TZOFFSETFROM:+0100
TZOFFSETTO:+0200
TZNAME:CEST
DTSTART:20240331T010000
END:DAYLIGHT
BEGIN:STANDARD
TZOFFSETFROM:+0200
TZOFFSETTO:+0100
TZNAME:CET
DTSTART:20241027T010000
END:STANDARD
BEGIN:DAYLIGHT
TZOFFSETFROM:+0100
TZOFFSETTO:+0200
TZNAME:CEST
DTSTART:20250330T010000
END:DAYLIGHT
BEGIN:STANDARD
TZOFFSETFROM:+0200
TZOFFSETTO:+0100
TZNAME:CET
DTSTART:20251026T010000
END:STANDARD
END:VTIMEZONE
BEGIN:VEVENT
DTSTART;TZID=Europe/Berlin:20240501T110000
DTEND;TZID=Europe/Berlin:20240501T110000
DTSTAMP:20260423T184704
CREATED:20230226T213259Z
LAST-MODIFIED:20240321T181455Z
UID:10238-1714561200-1714561200@ahl-haere.de
SUMMARY:Feiert mit uns das Maifest
DESCRIPTION:Feiert mit uns das Maifest \nBeginn: 11:00 Uhr \nab 12:00 Uhr Schmücken des Maibaumes \nGetränkestand/Grillstand und die Pullemer DJ`s \nHüpfburg/Spielmobil+++ vieles mehr \nDie Veranstaltung wird gemeinsam mit den Löschgrenadieren durchgeführt
URL:https://ahl-haere.de/veranstaltungen/feiert-mit-uns-das-maifest-tanz-in-den-mai/
LOCATION:Marktplatz Pulheim\, Venloer Str. 112\, Pulheim\, 50259\, Deutschland
END:VEVENT
BEGIN:VEVENT
DTSTART;TZID=Europe/Berlin:20240509T110000
DTEND;TZID=Europe/Berlin:20240509T190000
DTSTAMP:20260423T184704
CREATED:20230226T214100Z
LAST-MODIFIED:20240322T180516Z
UID:10244-1715252400-1715281200@ahl-haere.de
SUMMARY:Vatertags-Grillen (Christi-Himmelfahrt)
DESCRIPTION:Grillstation/ Getränkestand/ Hüpfburg – (powered by GVG)
URL:https://ahl-haere.de/veranstaltungen/vatertags-grillen-christi-himmelfahrt/
LOCATION:Marktplatz Pulheim\, Venloer Str. 112\, Pulheim\, 50259\, Deutschland
ORGANIZER;CN="KG Ahl H%C3%A4re Veranstaltungs GmbH":MAILTO:praesident@ahl-haere.de
END:VEVENT
BEGIN:VEVENT
DTSTART;TZID=Europe/Berlin:20240526T110000
DTEND;TZID=Europe/Berlin:20240526T180000
DTSTAMP:20260423T184704
CREATED:20230226T213647Z
LAST-MODIFIED:20240322T170731Z
UID:10240-1716721200-1716746400@ahl-haere.de
SUMMARY:Trödelmarkt der Stadtgarde
DESCRIPTION:Trödelmarkt der Stadtgarde auf dem Marktplatz in Pulheim \nPreis je LfM: -folgt- \nAnmeldungen unter: 0151-21379167 \nDer Markt findet bei jedem Wetter statt.
URL:https://ahl-haere.de/veranstaltungen/troedelmarkt-der-stadtgarde/
LOCATION:Marktplatz Pulheim\, Venloer Str. 112\, Pulheim\, 50259\, Deutschland
END:VEVENT
END:VCALENDAR