BEGIN:VCALENDAR
VERSION:2.0
PRODID:-//KG Ahl Häre von 1927 e.V. - ECPv6.15.20//NONSGML v1.0//EN
CALSCALE:GREGORIAN
METHOD:PUBLISH
X-ORIGINAL-URL:https://ahl-haere.de
X-WR-CALDESC:Veranstaltungen für KG Ahl Häre von 1927 e.V.
REFRESH-INTERVAL;VALUE=DURATION:PT1H
X-Robots-Tag:noindex
X-PUBLISHED-TTL:PT1H
BEGIN:VTIMEZONE
TZID:Europe/Berlin
BEGIN:DAYLIGHT
TZOFFSETFROM:+0100
TZOFFSETTO:+0200
TZNAME:CEST
DTSTART:20230326T010000
END:DAYLIGHT
BEGIN:STANDARD
TZOFFSETFROM:+0200
TZOFFSETTO:+0100
TZNAME:CET
DTSTART:20231029T010000
END:STANDARD
BEGIN:DAYLIGHT
TZOFFSETFROM:+0100
TZOFFSETTO:+0200
TZNAME:CEST
DTSTART:20240331T010000
END:DAYLIGHT
BEGIN:STANDARD
TZOFFSETFROM:+0200
TZOFFSETTO:+0100
TZNAME:CET
DTSTART:20241027T010000
END:STANDARD
BEGIN:DAYLIGHT
TZOFFSETFROM:+0100
TZOFFSETTO:+0200
TZNAME:CEST
DTSTART:20250330T010000
END:DAYLIGHT
BEGIN:STANDARD
TZOFFSETFROM:+0200
TZOFFSETTO:+0100
TZNAME:CET
DTSTART:20251026T010000
END:STANDARD
END:VTIMEZONE
BEGIN:VEVENT
DTSTART;TZID=Europe/Berlin:20240921T180000
DTEND;TZID=Europe/Berlin:20240921T180000
DTSTAMP:20260423T133537
CREATED:20230226T214741Z
LAST-MODIFIED:20240912T162504Z
UID:10248-1726941600-1726941600@ahl-haere.de
SUMMARY:Bayerisches Oktoberfest und Pulheimer Herbst-Gaudi der KG 2024
DESCRIPTION:Zünftige Eröffnung/ Fassanstich durch unseren Bürgermeister\nVerabschiedung Mädchen-Kinder-Dreigestirn\nVertragsunterzeichnung Dreigestirn 2025\n\n\n\n\nSpecialAct:\nPullemer DJ`s\n\nAuftritt Kurt Kokus: Sänger\, Entertainer und Comedian + Star-Trompeter mit Highlights aus allen Bereichen\, von Schlager bis kölsche Tön\n\n\nVorverkaufsstellen: \nBlumen Boon\, Sinnersdorfer Str. 56G\, 50259 Pulheim\, Tel.: 02238-55356 \nLeuchtenhaus Akzenta\, Venloer Str. 83\, 50259 Pulheim\, Tel.: 02238-51161 \n[contact-form-7 id=“3333ff8″ title=“Bestellformular Veranstaltungskarten_Dropdown“]
URL:https://ahl-haere.de/veranstaltungen/bayerisches-oktoberfest-2023-der-kg-ahl-haere/
LOCATION:Wagenbauhalle der KG Ahl Häre\, Boschstrasse 35\, Pulheim\, 50259\, Deutschland
END:VEVENT
END:VCALENDAR