BEGIN:VCALENDAR
VERSION:2.0
PRODID:-//KG Ahl Häre von 1927 e.V. - ECPv6.15.20//NONSGML v1.0//EN
CALSCALE:GREGORIAN
METHOD:PUBLISH
X-WR-CALNAME:KG Ahl Häre von 1927 e.V.
X-ORIGINAL-URL:https://ahl-haere.de
X-WR-CALDESC:Veranstaltungen für KG Ahl Häre von 1927 e.V.
REFRESH-INTERVAL;VALUE=DURATION:PT1H
X-Robots-Tag:noindex
X-PUBLISHED-TTL:PT1H
BEGIN:VTIMEZONE
TZID:Europe/Berlin
BEGIN:DAYLIGHT
TZOFFSETFROM:+0100
TZOFFSETTO:+0200
TZNAME:CEST
DTSTART:20230326T010000
END:DAYLIGHT
BEGIN:STANDARD
TZOFFSETFROM:+0200
TZOFFSETTO:+0100
TZNAME:CET
DTSTART:20231029T010000
END:STANDARD
BEGIN:DAYLIGHT
TZOFFSETFROM:+0100
TZOFFSETTO:+0200
TZNAME:CEST
DTSTART:20240331T010000
END:DAYLIGHT
BEGIN:STANDARD
TZOFFSETFROM:+0200
TZOFFSETTO:+0100
TZNAME:CET
DTSTART:20241027T010000
END:STANDARD
BEGIN:DAYLIGHT
TZOFFSETFROM:+0100
TZOFFSETTO:+0200
TZNAME:CEST
DTSTART:20250330T010000
END:DAYLIGHT
BEGIN:STANDARD
TZOFFSETFROM:+0200
TZOFFSETTO:+0100
TZNAME:CET
DTSTART:20251026T010000
END:STANDARD
END:VTIMEZONE
BEGIN:VEVENT
DTSTART;TZID=Europe/Berlin:20241003T110000
DTEND;TZID=Europe/Berlin:20241003T180000
DTSTAMP:20260423T105638
CREATED:20230226T213809Z
LAST-MODIFIED:20240425T113020Z
UID:10242-1727953200-1727978400@ahl-haere.de
SUMMARY:Trödelmarkt der Stadtgarde
DESCRIPTION:Trödelmarkt der Stadtgarde auf dem Marktplatz in Pulheim \nLiebe Trödel-Freunde\, \nwir veranstalten wieder unseren Trödelmarkt auf dem Pulheimer Marktplatz.\nJeder kann mitmachen! \nAnmeldungen jeder Zeit via Email über\ngarde-troedelmarkt@gmx.de \nAnmeldungen über unser Trödeltelefon ab sofort möglich. 015121379167 \nPreis pro Meter 10€.\nNeuware auf Anfrage. \nFür Essen und Trinken sorgen wir\, für genug Auswahl an den Ständen sorgt ihr. \nWir freuen uns darauf\, einen schönen Tag mit euch zu erleben. \nEure Stadtgarde \nDer Markt findet bei jedem Wetter statt.
URL:https://ahl-haere.de/veranstaltungen/troedelmarkt-der-stadtgarde-2/
LOCATION:Marktplatz Pulheim\, Venloer Str. 112\, Pulheim\, 50259\, Deutschland
END:VEVENT
BEGIN:VEVENT
DTSTART;TZID=Europe/Berlin:20241027T110000
DTEND;TZID=Europe/Berlin:20241027T110000
DTSTAMP:20260423T105638
CREATED:20230226T215016Z
LAST-MODIFIED:20240621T092950Z
UID:10250-1730026800-1730026800@ahl-haere.de
SUMMARY:Ordensappell Session 2024/2025 der KG Ahl Häre für Mitglieder + Familien sowie Freunde der KG
DESCRIPTION:Jubilarehrung/Sessionsorden/ Vereinsschießen – für Mitglieder + Familien sowie Freunde der KG \n 
URL:https://ahl-haere.de/veranstaltungen/ordesnappell-session-2023-2024-der-kg-ahl-haere/
LOCATION:Schützenhaus Pulheim\, Am Sportzentrum 24\, Pulheim\, NRW\, 50259\, Deutschland
ORGANIZER;CN="KG Ahl H%C3%A4re Veranstaltungs GmbH":MAILTO:praesident@ahl-haere.de
END:VEVENT
END:VCALENDAR