BEGIN:VCALENDAR
VERSION:2.0
PRODID:-//KG Ahl Häre von 1927 e.V. - ECPv6.15.20//NONSGML v1.0//EN
CALSCALE:GREGORIAN
METHOD:PUBLISH
X-WR-CALNAME:KG Ahl Häre von 1927 e.V.
X-ORIGINAL-URL:https://ahl-haere.de
X-WR-CALDESC:Veranstaltungen für KG Ahl Häre von 1927 e.V.
REFRESH-INTERVAL;VALUE=DURATION:PT1H
X-Robots-Tag:noindex
X-PUBLISHED-TTL:PT1H
BEGIN:VTIMEZONE
TZID:Europe/Berlin
BEGIN:DAYLIGHT
TZOFFSETFROM:+0100
TZOFFSETTO:+0200
TZNAME:CEST
DTSTART:20240331T010000
END:DAYLIGHT
BEGIN:STANDARD
TZOFFSETFROM:+0200
TZOFFSETTO:+0100
TZNAME:CET
DTSTART:20241027T010000
END:STANDARD
BEGIN:DAYLIGHT
TZOFFSETFROM:+0100
TZOFFSETTO:+0200
TZNAME:CEST
DTSTART:20250330T010000
END:DAYLIGHT
BEGIN:STANDARD
TZOFFSETFROM:+0200
TZOFFSETTO:+0100
TZNAME:CET
DTSTART:20251026T010000
END:STANDARD
BEGIN:DAYLIGHT
TZOFFSETFROM:+0100
TZOFFSETTO:+0200
TZNAME:CEST
DTSTART:20260329T010000
END:DAYLIGHT
BEGIN:STANDARD
TZOFFSETFROM:+0200
TZOFFSETTO:+0100
TZNAME:CET
DTSTART:20261025T010000
END:STANDARD
END:VTIMEZONE
BEGIN:VEVENT
DTSTART;TZID=Europe/Berlin:20250222T140000
DTEND;TZID=Europe/Berlin:20250222T173000
DTSTAMP:20260423T061700
CREATED:20241023T194210Z
LAST-MODIFIED:20250102T121142Z
UID:21858-1740232800-1740245400@ahl-haere.de
SUMMARY:Kinderfete - Jugendabteilung der KG Ahl Häre von 1927 e.V.
DESCRIPTION:Kinderfete – Jugendabteilung der KG Ahl Häre von 1927 e.V. \nEintritt: \nKinder: 5\,-€ \nErwachsene: 8\,-€ \nKartenvorverkauf startet am 28.10.24 bei Akzenta
URL:https://ahl-haere.de/veranstaltungen/kinderfete-jugendabteilung-der-kg-ahl-haere-von-1927-e-v/
LOCATION:Dr.-Hans-Köster-Saal (neben Kultur- und Medienzentrum)\, Steinstraße 15\, Pulheim\, NRW\, 50259\, Deutschland
ATTACH;FMTTYPE=image/webp:https://ahl-haere.de/wp-content/uploads/2024/10/HG_KGWebsite_Kinderfete_ausverkauft.webp
ORGANIZER;CN="KG Ahl H%C3%A4re Veranstaltungs GmbH":MAILTO:praesident@ahl-haere.de
END:VEVENT
BEGIN:VEVENT
DTSTART;TZID=Europe/Berlin:20250223T100000
DTEND;TZID=Europe/Berlin:20250223T100000
DTSTAMP:20260423T061700
CREATED:20231110T192049Z
LAST-MODIFIED:20240820T180932Z
UID:12601-1740304800-1740304800@ahl-haere.de
SUMMARY:Mess op Kölsch
DESCRIPTION:Karnevalssonntag – Mess op Kölsch
URL:https://ahl-haere.de/veranstaltungen/karnevalssonntag-mess-op-koelsch/
LOCATION:Kath. Kirche St. Kosmas und Damian\, Escher Straße 14\, Pulheim\, 50259\, Deutschland
END:VEVENT
BEGIN:VEVENT
DTSTART;TZID=Europe/Berlin:20250223T111500
DTEND;TZID=Europe/Berlin:20250223T111500
DTSTAMP:20260423T061700
CREATED:20231110T192155Z
LAST-MODIFIED:20240820T180839Z
UID:12603-1740309300-1740309300@ahl-haere.de
SUMMARY:Totenehrung/ Kranzniederlegung
DESCRIPTION:Totenehrung/ Kranzniederlegung
URL:https://ahl-haere.de/veranstaltungen/karnevalssonntag-totenehrung-kranzniederlegung/
LOCATION:Friedhof Blumenstraße\, Blumenstraße\, Pulheim\, 50259\, Deutschland
END:VEVENT
BEGIN:VEVENT
DTSTART;TZID=Europe/Berlin:20250223T120000
DTEND;TZID=Europe/Berlin:20250223T120000
DTSTAMP:20260423T061700
CREATED:20240226T110938Z
LAST-MODIFIED:20240820T180910Z
UID:14898-1740312000-1740312000@ahl-haere.de
SUMMARY:Frühschoppen
DESCRIPTION:Frühschoppen im WaM
URL:https://ahl-haere.de/veranstaltungen/karnevalssonntag-fruehschoppen-2/
LOCATION:Wirtshaus am Markt Pulheim\, Venloer Str. 112\, Pulheim\, 50259\, Deutschland
END:VEVENT
BEGIN:VEVENT
DTSTART;TZID=Europe/Berlin:20250227T103000
DTEND;TZID=Europe/Berlin:20250227T103000
DTSTAMP:20260423T061700
CREATED:20230809T085641Z
LAST-MODIFIED:20250213T091715Z
UID:11477-1740652200-1740652200@ahl-haere.de
SUMMARY:Gemeinsam Zurück im Zelt auf dem Pulheimer Marktplatz - Wieverfastelovend
DESCRIPTION:
URL:https://ahl-haere.de/veranstaltungen/weiberfastnacht/
LOCATION:Marktplatz Pulheim\, Venloer Str. 112\, Pulheim\, 50259\, Deutschland
CATEGORIES:Highlights
ATTACH;FMTTYPE=image/webp:https://ahl-haere.de/wp-content/uploads/2025/02/HG_KGWebsite_Zelt_Weiberfastnacht_AUSVERKAUFT-scaled.webp
END:VEVENT
END:VCALENDAR