BEGIN:VCALENDAR
VERSION:2.0
PRODID:-//KG Ahl Häre von 1927 e.V. - ECPv6.15.20//NONSGML v1.0//EN
CALSCALE:GREGORIAN
METHOD:PUBLISH
X-WR-CALNAME:KG Ahl Häre von 1927 e.V.
X-ORIGINAL-URL:https://ahl-haere.de
X-WR-CALDESC:Veranstaltungen für KG Ahl Häre von 1927 e.V.
REFRESH-INTERVAL;VALUE=DURATION:PT1H
X-Robots-Tag:noindex
X-PUBLISHED-TTL:PT1H
BEGIN:VTIMEZONE
TZID:Europe/Berlin
BEGIN:DAYLIGHT
TZOFFSETFROM:+0100
TZOFFSETTO:+0200
TZNAME:CEST
DTSTART:20240331T010000
END:DAYLIGHT
BEGIN:STANDARD
TZOFFSETFROM:+0200
TZOFFSETTO:+0100
TZNAME:CET
DTSTART:20241027T010000
END:STANDARD
BEGIN:DAYLIGHT
TZOFFSETFROM:+0100
TZOFFSETTO:+0200
TZNAME:CEST
DTSTART:20250330T010000
END:DAYLIGHT
BEGIN:STANDARD
TZOFFSETFROM:+0200
TZOFFSETTO:+0100
TZNAME:CET
DTSTART:20251026T010000
END:STANDARD
BEGIN:DAYLIGHT
TZOFFSETFROM:+0100
TZOFFSETTO:+0200
TZNAME:CEST
DTSTART:20260329T010000
END:DAYLIGHT
BEGIN:STANDARD
TZOFFSETFROM:+0200
TZOFFSETTO:+0100
TZNAME:CET
DTSTART:20261025T010000
END:STANDARD
END:VTIMEZONE
BEGIN:VEVENT
DTSTART;TZID=Europe/Berlin:20250628T140000
DTEND;TZID=Europe/Berlin:20250628T140000
DTSTAMP:20260423T004532
CREATED:20250520T090014Z
LAST-MODIFIED:20250521T081911Z
UID:27518-1751119200-1751119200@ahl-haere.de
SUMMARY:44 Jahre Stadtgarde Pulheim - Jubiläumsfest für die ganze Familie
DESCRIPTION:4 x 11 Jahre Stadtgarde Pulheim \nDie Stadtgarde Pulheim wird 44 Jahre alt und das feiern wir mit einem großen Jubiläumsfest in unserer Wagenbauhalle!\nSamstag\, 28.06.2025\nStart: 14:00 Uhr \nWas euch erwartet:\nDie legendären Pullemer Olympics\, eine Mini-Spiel-Olympiade\, bei der verschiedene Vereine aus dem Pulheimer Stadtgebiet gegeneinander antreten.\nDieses Jahr zum ersten Mal auch als Pänz-Edition für die Kinder- und Jugend-Tanzgruppen der Karnevalsgesellschaften! \nAm Abend live auf der Bühne:\nBjörn Heuser bringt Stimmung in die Halle\,\nund im Anschluss sorgen die Pullemer DJs für die passende Musik bis in die Nacht. \nDer Vorverkauf läuft bereits bei Blumen Boon (Sinnersdorfer Straße).\nEintritt im VVK: 7 € (inkl. 1 Freigetränk)\nAbendkasse: 10 € \nKommt vorbei und feiert mit uns\, wir freuen uns auf euch!
URL:https://ahl-haere.de/veranstaltungen/44-jahre-stadtgarde-pulheim-jubilaeumsfest-fuer-die-ganze-familie/
LOCATION:Wagenbauhalle der KG Ahl Häre\, Boschstrasse 35\, Pulheim\, 50259\, Deutschland
ATTACH;FMTTYPE=image/webp:https://ahl-haere.de/wp-content/uploads/2025/05/HG_KGWebsite_Stadtgarde44Jahre-scaled.webp
END:VEVENT
END:VCALENDAR