BEGIN:VCALENDAR
VERSION:2.0
PRODID:-//KG Ahl Häre von 1927 e.V. - ECPv6.15.20//NONSGML v1.0//EN
CALSCALE:GREGORIAN
METHOD:PUBLISH
X-WR-CALNAME:KG Ahl Häre von 1927 e.V.
X-ORIGINAL-URL:https://ahl-haere.de
X-WR-CALDESC:Veranstaltungen für KG Ahl Häre von 1927 e.V.
REFRESH-INTERVAL;VALUE=DURATION:PT1H
X-Robots-Tag:noindex
X-PUBLISHED-TTL:PT1H
BEGIN:VTIMEZONE
TZID:Europe/Berlin
BEGIN:DAYLIGHT
TZOFFSETFROM:+0100
TZOFFSETTO:+0200
TZNAME:CEST
DTSTART:20260329T010000
END:DAYLIGHT
BEGIN:STANDARD
TZOFFSETFROM:+0200
TZOFFSETTO:+0100
TZNAME:CET
DTSTART:20261025T010000
END:STANDARD
BEGIN:DAYLIGHT
TZOFFSETFROM:+0100
TZOFFSETTO:+0200
TZNAME:CEST
DTSTART:20270328T010000
END:DAYLIGHT
BEGIN:STANDARD
TZOFFSETFROM:+0200
TZOFFSETTO:+0100
TZNAME:CET
DTSTART:20271031T010000
END:STANDARD
BEGIN:DAYLIGHT
TZOFFSETFROM:+0100
TZOFFSETTO:+0200
TZNAME:CEST
DTSTART:20280326T010000
END:DAYLIGHT
BEGIN:STANDARD
TZOFFSETFROM:+0200
TZOFFSETTO:+0100
TZNAME:CET
DTSTART:20281029T010000
END:STANDARD
END:VTIMEZONE
BEGIN:VEVENT
DTSTART;TZID=Europe/Berlin:20270110T100000
DTEND;TZID=Europe/Berlin:20270110T100000
DTSTAMP:20260420T192833
CREATED:20260218T130640Z
LAST-MODIFIED:20260218T130729Z
UID:28122-1799575200-1799575200@ahl-haere.de
SUMMARY:Herrensitzung Session 2027- Programm mit Spitzenkräften des Kölner Karnevals
DESCRIPTION:Herrensitzung – Programm mit Spitzenkräften des Kölner Karnevals \nEinlass: 10:00 Uhr\nBeginn: 11:00 Uhr
URL:https://ahl-haere.de/veranstaltungen/herrensitzung-session-2026-programm-mit-spitzenkraeften-des-koelner-karnevals-infos-in-den-details-ausverkauft/
LOCATION:Dr.-Hans-Köster-Saal (neben Kultur- und Medienzentrum)\, Steinstraße 15\, Pulheim\, NRW\, 50259\, Deutschland
ORGANIZER;CN="KG Ahl H%C3%A4re Veranstaltungs GmbH":MAILTO:praesident@ahl-haere.de
END:VEVENT
BEGIN:VEVENT
DTSTART;TZID=Europe/Berlin:20270112T160000
DTEND;TZID=Europe/Berlin:20270112T160000
DTSTAMP:20260420T192833
CREATED:20260218T130848Z
LAST-MODIFIED:20260218T131228Z
UID:28123-1799769600-1799769600@ahl-haere.de
SUMMARY:Damensitzung Session 2027 - Programm mit Spitzenkräften des Kölner Karnevals
DESCRIPTION:Damensitzung \nProgramm mit Spitzenkräften des Karnevals: \nEinlass: 16:00 Uhr – Beginn: ca. 16:40 Uhr \n 
URL:https://ahl-haere.de/veranstaltungen/damensitzung-programm-mit-spitzenkraeften-des-koelner-karnevals/
LOCATION:Dr.-Hans-Köster-Saal (neben Kultur- und Medienzentrum)\, Steinstraße 15\, Pulheim\, NRW\, 50259\, Deutschland
END:VEVENT
BEGIN:VEVENT
DTSTART;TZID=Europe/Berlin:20270124T130000
DTEND;TZID=Europe/Berlin:20270124T170000
DTSTAMP:20260420T192833
CREATED:20260218T131925Z
LAST-MODIFIED:20260218T131925Z
UID:28143-1800795600-1800810000@ahl-haere.de
SUMMARY:Hand in Hand Sitzung Session 2027
DESCRIPTION:
URL:https://ahl-haere.de/veranstaltungen/hand-in-hand-sitzung-session-2027/
LOCATION:Dr.-Hans-Köster-Saal (neben Kultur- und Medienzentrum)\, Steinstraße 15\, Pulheim\, NRW\, 50259\, Deutschland
ORGANIZER;CN="KG Ahl H%C3%A4re Veranstaltungs GmbH":MAILTO:praesident@ahl-haere.de
END:VEVENT
BEGIN:VEVENT
DTSTART;VALUE=DATE:20270130
DTEND;VALUE=DATE:20270131
DTSTAMP:20260420T192833
CREATED:20241213T172115Z
LAST-MODIFIED:20260218T130946Z
UID:23491-1801267200-1801353599@ahl-haere.de
SUMMARY:Kinderfete - Jugendabteilung der KG Ahl Häre von 1927 e.V.
DESCRIPTION:More to Come ….!
URL:https://ahl-haere.de/veranstaltungen/kinderfete-jugendabteilung-der-kg-ahl-haere-von-1927-e-v-3/
LOCATION:Dr.-Hans-Köster-Saal (neben Kultur- und Medienzentrum)\, Steinstraße 15\, Pulheim\, NRW\, 50259\, Deutschland
ORGANIZER;CN="KG Ahl H%C3%A4re Veranstaltungs GmbH":MAILTO:praesident@ahl-haere.de
END:VEVENT
BEGIN:VEVENT
DTSTART;TZID=Europe/Berlin:20270131T110000
DTEND;TZID=Europe/Berlin:20270131T110000
DTSTAMP:20260420T192833
CREATED:20260218T131507Z
LAST-MODIFIED:20260218T131507Z
UID:28135-1801393200-1801393200@ahl-haere.de
SUMMARY:Session 2027: Mess op Kölsch
DESCRIPTION:Mess op Kölsch
URL:https://ahl-haere.de/veranstaltungen/session-2027-mess-op-koelsch/
LOCATION:Kath. Kirche St. Kosmas und Damian\, Escher Straße 14\, Pulheim\, 50259\, Deutschland
END:VEVENT
BEGIN:VEVENT
DTSTART;TZID=Europe/Berlin:20270131T121500
DTEND;TZID=Europe/Berlin:20270131T121500
DTSTAMP:20260420T192833
CREATED:20260218T131404Z
LAST-MODIFIED:20260218T131404Z
UID:28134-1801397700-1801397700@ahl-haere.de
SUMMARY:Session 2027: Totenehrung/ Kranzniederlegung
DESCRIPTION:Totenehrung/ Kranzniederlegung
URL:https://ahl-haere.de/veranstaltungen/session-2027-totenehrung-kranzniederlegung/
LOCATION:Friedhof Blumenstraße\, Blumenstraße\, Pulheim\, 50259\, Deutschland
END:VEVENT
END:VCALENDAR